BEGIN:VCALENDAR
VERSION:2.0
PRODID:-//Squarespace Inc/Squarespace 6//v6//EN
BEGIN:VEVENT
UID:5bffc9c8575d1fcc094cbe82@squarespace.com
DTSTAMP:20181129T112218Z
DTSTART:20181201T010000Z
DTEND:20181201T110000Z
SUMMARY:Spencer Wilton &amp\; The Stars of the Future - Dressage Masterclas
 s 
END:VEVENT
END:VCALENDAR
