BEGIN:VCALENDAR
VERSION:2.0
PRODID:-//Squarespace Inc/Squarespace 6//v6//EN
BEGIN:VEVENT
UID:5c09980a6d2a7333e337c302@squarespace.com
DTSTAMP:20181206T214632Z
DTSTART:20181208T210000Z
DTEND:20181209T040000Z
SUMMARY:Buckskin Nationals
END:VEVENT
END:VCALENDAR
