BEGIN:VCALENDAR
VERSION:2.0
PRODID:-//Squarespace Inc/Squarespace 6//v6//EN
BEGIN:VEVENT
UID:5cf7b7cd4903b90001011d44@squarespace.com
DTSTAMP:20190731T125024Z
DTSTART:20190605T130000Z
DTEND:20190605T140000Z
SUMMARY:Clarendon Dressage WInterfest
END:VEVENT
END:VCALENDAR
