BEGIN:VCALENDAR
VERSION:2.0
PRODID:-//Squarespace Inc/Squarespace 6//v6//EN
BEGIN:VEVENT
UID:5d418e9e55459000015dff12@squarespace.com
DTSTAMP:20190731T130111Z
DTSTART:20190803T220000Z
DTEND:20190804T060000Z
SUMMARY:ACT Dressage Association (ACTDA) 
GEO:-35.314214;149.07321
LOCATION:Equestrian Park\, Curtin ACT\, Australia
END:VEVENT
END:VCALENDAR
